BEGIN:VCALENDAR
VERSION:2.0
PRODID:-//Madison Meadows Golf Course - ECPv6.15.18//NONSGML v1.0//EN
CALSCALE:GREGORIAN
METHOD:PUBLISH
X-WR-CALNAME:Madison Meadows Golf Course
X-ORIGINAL-URL:https://www.madisonmeadowsgolfcourse.com
X-WR-CALDESC:Events for Madison Meadows Golf Course
REFRESH-INTERVAL;VALUE=DURATION:PT1H
X-Robots-Tag:noindex
X-PUBLISHED-TTL:PT1H
BEGIN:VTIMEZONE
TZID:UTC
BEGIN:STANDARD
TZOFFSETFROM:+0000
TZOFFSETTO:+0000
TZNAME:UTC
DTSTART:20230101T000000
END:STANDARD
END:VTIMEZONE
BEGIN:VTIMEZONE
TZID:America/Denver
BEGIN:DAYLIGHT
TZOFFSETFROM:-0700
TZOFFSETTO:-0600
TZNAME:MDT
DTSTART:20230312T090000
END:DAYLIGHT
BEGIN:STANDARD
TZOFFSETFROM:-0600
TZOFFSETTO:-0700
TZNAME:MST
DTSTART:20231105T080000
END:STANDARD
BEGIN:DAYLIGHT
TZOFFSETFROM:-0700
TZOFFSETTO:-0600
TZNAME:MDT
DTSTART:20240310T090000
END:DAYLIGHT
BEGIN:STANDARD
TZOFFSETFROM:-0600
TZOFFSETTO:-0700
TZNAME:MST
DTSTART:20241103T080000
END:STANDARD
BEGIN:DAYLIGHT
TZOFFSETFROM:-0700
TZOFFSETTO:-0600
TZNAME:MDT
DTSTART:20250309T090000
END:DAYLIGHT
BEGIN:STANDARD
TZOFFSETFROM:-0600
TZOFFSETTO:-0700
TZNAME:MST
DTSTART:20251102T080000
END:STANDARD
END:VTIMEZONE
BEGIN:VEVENT
DTSTART;VALUE=DATE:20240603
DTEND;VALUE=DATE:20240604
DTSTAMP:20260420T222802
CREATED:20240517T180154Z
LAST-MODIFIED:20240517T180208Z
UID:10000023-1717372800-1717459199@www.madisonmeadowsgolfcourse.com
SUMMARY:MMGC Maintenance Fundraiser
DESCRIPTION:
URL:https://www.madisonmeadowsgolfcourse.com/event/mmgc-maintenance-fundraiser/
END:VEVENT
BEGIN:VEVENT
DTSTART;TZID=UTC:20240531T173000
DTEND;TZID=UTC:20240531T173000
DTSTAMP:20260420T222802
CREATED:20240517T180039Z
LAST-MODIFIED:20240517T180039Z
UID:10000010-1717176600-1717176600@www.madisonmeadowsgolfcourse.com
SUMMARY:Couple’s Friday Fun Night Scramble
DESCRIPTION:
URL:https://www.madisonmeadowsgolfcourse.com/event/couples-friday-fun-night-scramble/2024-05-31/
END:VEVENT
BEGIN:VEVENT
DTSTART;TZID=UTC:20240524T173000
DTEND;TZID=UTC:20240524T173000
DTSTAMP:20260420T222802
CREATED:20240517T180039Z
LAST-MODIFIED:20240517T180039Z
UID:10000009-1716571800-1716571800@www.madisonmeadowsgolfcourse.com
SUMMARY:Couple’s Friday Fun Night Scramble
DESCRIPTION:
URL:https://www.madisonmeadowsgolfcourse.com/event/couples-friday-fun-night-scramble/2024-05-24/
END:VEVENT
BEGIN:VEVENT
DTSTART;TZID=America/Denver:20240522T160000
DTEND;TZID=America/Denver:20240522T170000
DTSTAMP:20260420T222802
CREATED:20240517T175848Z
LAST-MODIFIED:20240517T175848Z
UID:10000008-1716393600-1716397200@www.madisonmeadowsgolfcourse.com
SUMMARY:Free After School Junior Golf Program for kids ages 7-13
DESCRIPTION:Free After School Junior Golf Program for kids ages 7-13 on Tuesday and Thursday from 4pm – 5pm.
URL:https://www.madisonmeadowsgolfcourse.com/event/free-after-school-junior-golf-program-for-kids-ages-7-13-6/
END:VEVENT
BEGIN:VEVENT
DTSTART;TZID=America/Denver:20240430T160000
DTEND;TZID=America/Denver:20240430T170000
DTSTAMP:20260420T222802
CREATED:20240403T003609Z
LAST-MODIFIED:20240404T024141Z
UID:10000007-1714492800-1714496400@www.madisonmeadowsgolfcourse.com
SUMMARY:Free After School Junior Golf Program for kids ages 7-13
DESCRIPTION:Free After School Junior Golf Program for kids ages 7-13 on Tuesday and Thursday from 4pm – 5pm.
URL:https://www.madisonmeadowsgolfcourse.com/event/free-after-school-junior-golf-program-for-kids-ages-7-13-5/
END:VEVENT
BEGIN:VEVENT
DTSTART;TZID=America/Denver:20240425T160000
DTEND;TZID=America/Denver:20240425T170000
DTSTAMP:20260420T222802
CREATED:20240403T003426Z
LAST-MODIFIED:20240403T003426Z
UID:10000006-1714060800-1714064400@www.madisonmeadowsgolfcourse.com
SUMMARY:Free After School Junior Golf Program for kids ages 7-13
DESCRIPTION:Free After School Junior Golf Program for kids ages 7-13 on Tuesday and Thursday from 4pm – 5pm.
URL:https://www.madisonmeadowsgolfcourse.com/event/free-after-school-junior-golf-program-for-kids-ages-7-13-4/
END:VEVENT
BEGIN:VEVENT
DTSTART;TZID=America/Denver:20240425T150000
DTEND;TZID=America/Denver:20240425T180000
DTSTAMP:20260420T222802
CREATED:20240403T003114Z
LAST-MODIFIED:20240403T003150Z
UID:10000004-1714057200-1714068000@www.madisonmeadowsgolfcourse.com
SUMMARY:Ennis Boys and Girls High School Golf Tournament
DESCRIPTION:Ennis Boys and Girls High School Golf Tournament
URL:https://www.madisonmeadowsgolfcourse.com/event/ennis-boys-and-girls-high-school-golf-tournament/
END:VEVENT
BEGIN:VEVENT
DTSTART;TZID=America/Denver:20240423T160000
DTEND;TZID=America/Denver:20240423T170000
DTSTAMP:20260420T222802
CREATED:20240403T003328Z
LAST-MODIFIED:20240403T003328Z
UID:10000005-1713888000-1713891600@www.madisonmeadowsgolfcourse.com
SUMMARY:Free After School Junior Golf Program for kids ages 7-13
DESCRIPTION:Free After School Junior Golf Program for kids ages 7-13 on Tuesday and Thursday from 4pm – 5pm.
URL:https://www.madisonmeadowsgolfcourse.com/event/free-after-school-junior-golf-program-for-kids-ages-7-13-3/
END:VEVENT
BEGIN:VEVENT
DTSTART;TZID=America/Denver:20240418T160000
DTEND;TZID=America/Denver:20240418T170000
DTSTAMP:20260420T222802
CREATED:20240403T002813Z
LAST-MODIFIED:20240403T002813Z
UID:10000002-1713456000-1713459600@www.madisonmeadowsgolfcourse.com
SUMMARY:Free After School Junior Golf Program for kids ages 7-13
DESCRIPTION:Free After School Junior Golf Program for kids ages 7-13 on Tuesday and Thursday from 4pm – 5pm.
URL:https://www.madisonmeadowsgolfcourse.com/event/free-after-school-junior-golf-program-for-kids-ages-7-13-2/
END:VEVENT
BEGIN:VEVENT
DTSTART;TZID=America/Denver:20240417T173000
DTEND;TZID=America/Denver:20240417T173000
DTSTAMP:20260420T222802
CREATED:20240403T002938Z
LAST-MODIFIED:20240403T002938Z
UID:10000003-1713375000-1713375000@www.madisonmeadowsgolfcourse.com
SUMMARY:Men's League
DESCRIPTION:Men’s League
URL:https://www.madisonmeadowsgolfcourse.com/event/mens-league/
END:VEVENT
END:VCALENDAR