BEGIN:VCALENDAR
VERSION:2.0
PRODID:-//Madison Meadows Golf Course - ECPv6.15.18//NONSGML v1.0//EN
CALSCALE:GREGORIAN
METHOD:PUBLISH
X-WR-CALNAME:Madison Meadows Golf Course
X-ORIGINAL-URL:https://www.madisonmeadowsgolfcourse.com
X-WR-CALDESC:Events for Madison Meadows Golf Course
REFRESH-INTERVAL;VALUE=DURATION:PT1H
X-Robots-Tag:noindex
X-PUBLISHED-TTL:PT1H
BEGIN:VTIMEZONE
TZID:UTC
BEGIN:STANDARD
TZOFFSETFROM:+0000
TZOFFSETTO:+0000
TZNAME:UTC
DTSTART:20230101T000000
END:STANDARD
END:VTIMEZONE
BEGIN:VEVENT
DTSTART;TZID=UTC:20240730T090000
DTEND;TZID=UTC:20240730T130000
DTSTAMP:20260420T155450
CREATED:20240607T171401Z
LAST-MODIFIED:20240718T042959Z
UID:10000091-1722330000-1722344400@www.madisonmeadowsgolfcourse.com
SUMMARY:Senior League
DESCRIPTION:
URL:https://www.madisonmeadowsgolfcourse.com/event/mens-senior-league/2024-07-30/
END:VEVENT
BEGIN:VEVENT
DTSTART;TZID=UTC:20240726T173000
DTEND;TZID=UTC:20240726T173000
DTSTAMP:20260420T155450
CREATED:20240517T180039Z
LAST-MODIFIED:20240517T180039Z
UID:10000018-1722015000-1722015000@www.madisonmeadowsgolfcourse.com
SUMMARY:Couple’s Friday Fun Night Scramble
DESCRIPTION:
URL:https://www.madisonmeadowsgolfcourse.com/event/couples-friday-fun-night-scramble/2024-07-26/
END:VEVENT
BEGIN:VEVENT
DTSTART;TZID=UTC:20240725T093000
DTEND;TZID=UTC:20240725T130000
DTSTAMP:20260420T155450
CREATED:20240607T171209Z
LAST-MODIFIED:20240607T171209Z
UID:10000031-1721899800-1721912400@www.madisonmeadowsgolfcourse.com
SUMMARY:Women’s League
DESCRIPTION:
URL:https://www.madisonmeadowsgolfcourse.com/event/womens-league/2024-07-25/
END:VEVENT
BEGIN:VEVENT
DTSTART;TZID=UTC:20240725T090000
DTEND;TZID=UTC:20240725T120000
DTSTAMP:20260420T155450
CREATED:20240718T042658Z
LAST-MODIFIED:20240718T042841Z
UID:10000111-1721898000-1721908800@www.madisonmeadowsgolfcourse.com
SUMMARY:Kids Golf & Tennis Camp
DESCRIPTION:We offer classes for two age groups: 5-9 and 10-14. It is $10 per day or $50 for all six sessions\, and you can choose between golf\, tennis\, or both for the same daily fee! \nCall the Pro Shop for more information and to sign up!
URL:https://www.madisonmeadowsgolfcourse.com/event/kids-golf-tennis-camp-2/2024-07-25/
END:VEVENT
BEGIN:VEVENT
DTSTART;TZID=UTC:20240724T173000
DTEND;TZID=UTC:20240724T210000
DTSTAMP:20260420T155450
CREATED:20240607T171500Z
LAST-MODIFIED:20240607T171500Z
UID:10000068-1721842200-1721854800@www.madisonmeadowsgolfcourse.com
SUMMARY:Men’s League
DESCRIPTION:
URL:https://www.madisonmeadowsgolfcourse.com/event/mens-league-2/2024-07-24/
END:VEVENT
BEGIN:VEVENT
DTSTART;TZID=UTC:20240723T090000
DTEND;TZID=UTC:20240723T130000
DTSTAMP:20260420T155450
CREATED:20240607T171401Z
LAST-MODIFIED:20240718T042959Z
UID:10000090-1721725200-1721739600@www.madisonmeadowsgolfcourse.com
SUMMARY:Senior League
DESCRIPTION:
URL:https://www.madisonmeadowsgolfcourse.com/event/mens-senior-league/2024-07-23/
END:VEVENT
BEGIN:VEVENT
DTSTART;TZID=UTC:20240723T090000
DTEND;TZID=UTC:20240723T120000
DTSTAMP:20260420T155450
CREATED:20240718T042658Z
LAST-MODIFIED:20240718T042841Z
UID:10000110-1721725200-1721736000@www.madisonmeadowsgolfcourse.com
SUMMARY:Kids Golf & Tennis Camp
DESCRIPTION:We offer classes for two age groups: 5-9 and 10-14. It is $10 per day or $50 for all six sessions\, and you can choose between golf\, tennis\, or both for the same daily fee! \nCall the Pro Shop for more information and to sign up!
URL:https://www.madisonmeadowsgolfcourse.com/event/kids-golf-tennis-camp-2/2024-07-23/
END:VEVENT
BEGIN:VEVENT
DTSTART;TZID=UTC:20240722T080000
DTEND;TZID=UTC:20240722T170000
DTSTAMP:20260420T155450
CREATED:20240722T174252Z
LAST-MODIFIED:20240722T174252Z
UID:10000223-1721635200-1721667600@www.madisonmeadowsgolfcourse.com
SUMMARY:Silver Dollar 4-Person Scramble Fundraiser
DESCRIPTION:
URL:https://www.madisonmeadowsgolfcourse.com/event/silver-dollar-4-person-scramble-fundraiser/
END:VEVENT
BEGIN:VEVENT
DTSTART;TZID=UTC:20240719T173000
DTEND;TZID=UTC:20240719T173000
DTSTAMP:20260420T155450
CREATED:20240517T180039Z
LAST-MODIFIED:20240517T180039Z
UID:10000017-1721410200-1721410200@www.madisonmeadowsgolfcourse.com
SUMMARY:Couple’s Friday Fun Night Scramble
DESCRIPTION:
URL:https://www.madisonmeadowsgolfcourse.com/event/couples-friday-fun-night-scramble/2024-07-19/
END:VEVENT
BEGIN:VEVENT
DTSTART;TZID=UTC:20240718T093000
DTEND;TZID=UTC:20240718T130000
DTSTAMP:20260420T155450
CREATED:20240607T171209Z
LAST-MODIFIED:20240607T171209Z
UID:10000030-1721295000-1721307600@www.madisonmeadowsgolfcourse.com
SUMMARY:Women’s League
DESCRIPTION:
URL:https://www.madisonmeadowsgolfcourse.com/event/womens-league/2024-07-18/
END:VEVENT
BEGIN:VEVENT
DTSTART;TZID=UTC:20240717T173000
DTEND;TZID=UTC:20240717T210000
DTSTAMP:20260420T155450
CREATED:20240607T171500Z
LAST-MODIFIED:20240607T171500Z
UID:10000067-1721237400-1721250000@www.madisonmeadowsgolfcourse.com
SUMMARY:Men’s League
DESCRIPTION:
URL:https://www.madisonmeadowsgolfcourse.com/event/mens-league-2/2024-07-17/
END:VEVENT
BEGIN:VEVENT
DTSTART;TZID=UTC:20240716T090000
DTEND;TZID=UTC:20240716T130000
DTSTAMP:20260420T155450
CREATED:20240607T171401Z
LAST-MODIFIED:20240718T042959Z
UID:10000089-1721120400-1721134800@www.madisonmeadowsgolfcourse.com
SUMMARY:Senior League
DESCRIPTION:
URL:https://www.madisonmeadowsgolfcourse.com/event/mens-senior-league/2024-07-16/
END:VEVENT
BEGIN:VEVENT
DTSTART;TZID=UTC:20240716T090000
DTEND;TZID=UTC:20240716T120000
DTSTAMP:20260420T155450
CREATED:20240625T162716Z
LAST-MODIFIED:20240625T162716Z
UID:10000108-1721120400-1721131200@www.madisonmeadowsgolfcourse.com
SUMMARY:Kids Golf & Tennis Camp
DESCRIPTION:We offer classes for two age groups: 5-9 and 10-14. It is $10 per day or $50 for all six sessions\, and you can choose between golf\, tennis\, or both for the same daily fee! \nCall the Pro Shop for more information and to sign up!
URL:https://www.madisonmeadowsgolfcourse.com/event/kids-golf-tennis-camp/2024-07-16/
END:VEVENT
BEGIN:VEVENT
DTSTART;TZID=UTC:20240712T173000
DTEND;TZID=UTC:20240712T173000
DTSTAMP:20260420T155450
CREATED:20240517T180039Z
LAST-MODIFIED:20240517T180039Z
UID:10000016-1720805400-1720805400@www.madisonmeadowsgolfcourse.com
SUMMARY:Couple’s Friday Fun Night Scramble
DESCRIPTION:
URL:https://www.madisonmeadowsgolfcourse.com/event/couples-friday-fun-night-scramble/2024-07-12/
END:VEVENT
BEGIN:VEVENT
DTSTART;TZID=UTC:20240711T093000
DTEND;TZID=UTC:20240711T130000
DTSTAMP:20260420T155450
CREATED:20240607T171209Z
LAST-MODIFIED:20240607T171209Z
UID:10000029-1720690200-1720702800@www.madisonmeadowsgolfcourse.com
SUMMARY:Women’s League
DESCRIPTION:
URL:https://www.madisonmeadowsgolfcourse.com/event/womens-league/2024-07-11/
END:VEVENT
BEGIN:VEVENT
DTSTART;TZID=UTC:20240711T090000
DTEND;TZID=UTC:20240711T120000
DTSTAMP:20260420T155450
CREATED:20240625T162716Z
LAST-MODIFIED:20240625T162716Z
UID:10000107-1720688400-1720699200@www.madisonmeadowsgolfcourse.com
SUMMARY:Kids Golf & Tennis Camp
DESCRIPTION:We offer classes for two age groups: 5-9 and 10-14. It is $10 per day or $50 for all six sessions\, and you can choose between golf\, tennis\, or both for the same daily fee! \nCall the Pro Shop for more information and to sign up!
URL:https://www.madisonmeadowsgolfcourse.com/event/kids-golf-tennis-camp/2024-07-11/
END:VEVENT
BEGIN:VEVENT
DTSTART;TZID=UTC:20240710T173000
DTEND;TZID=UTC:20240710T210000
DTSTAMP:20260420T155450
CREATED:20240607T171500Z
LAST-MODIFIED:20240607T171500Z
UID:10000066-1720632600-1720645200@www.madisonmeadowsgolfcourse.com
SUMMARY:Men’s League
DESCRIPTION:
URL:https://www.madisonmeadowsgolfcourse.com/event/mens-league-2/2024-07-10/
END:VEVENT
BEGIN:VEVENT
DTSTART;TZID=UTC:20240709T090000
DTEND;TZID=UTC:20240709T130000
DTSTAMP:20260420T155450
CREATED:20240607T171401Z
LAST-MODIFIED:20240718T042959Z
UID:10000088-1720515600-1720530000@www.madisonmeadowsgolfcourse.com
SUMMARY:Senior League
DESCRIPTION:
URL:https://www.madisonmeadowsgolfcourse.com/event/mens-senior-league/2024-07-09/
END:VEVENT
BEGIN:VEVENT
DTSTART;TZID=UTC:20240709T090000
DTEND;TZID=UTC:20240709T120000
DTSTAMP:20260420T155450
CREATED:20240625T162716Z
LAST-MODIFIED:20240625T162716Z
UID:10000106-1720515600-1720526400@www.madisonmeadowsgolfcourse.com
SUMMARY:Kids Golf & Tennis Camp
DESCRIPTION:We offer classes for two age groups: 5-9 and 10-14. It is $10 per day or $50 for all six sessions\, and you can choose between golf\, tennis\, or both for the same daily fee! \nCall the Pro Shop for more information and to sign up!
URL:https://www.madisonmeadowsgolfcourse.com/event/kids-golf-tennis-camp/2024-07-09/
END:VEVENT
BEGIN:VEVENT
DTSTART;TZID=UTC:20240705T173000
DTEND;TZID=UTC:20240705T173000
DTSTAMP:20260420T155450
CREATED:20240517T180039Z
LAST-MODIFIED:20240517T180039Z
UID:10000015-1720200600-1720200600@www.madisonmeadowsgolfcourse.com
SUMMARY:Couple’s Friday Fun Night Scramble
DESCRIPTION:
URL:https://www.madisonmeadowsgolfcourse.com/event/couples-friday-fun-night-scramble/2024-07-05/
END:VEVENT
BEGIN:VEVENT
DTSTART;TZID=UTC:20240704T093000
DTEND;TZID=UTC:20240704T130000
DTSTAMP:20260420T155450
CREATED:20240607T171209Z
LAST-MODIFIED:20240607T171209Z
UID:10000028-1720085400-1720098000@www.madisonmeadowsgolfcourse.com
SUMMARY:Women’s League
DESCRIPTION:
URL:https://www.madisonmeadowsgolfcourse.com/event/womens-league/2024-07-04/
END:VEVENT
BEGIN:VEVENT
DTSTART;TZID=UTC:20240703T173000
DTEND;TZID=UTC:20240703T210000
DTSTAMP:20260420T155450
CREATED:20240607T171500Z
LAST-MODIFIED:20240607T171500Z
UID:10000065-1720027800-1720040400@www.madisonmeadowsgolfcourse.com
SUMMARY:Men’s League
DESCRIPTION:
URL:https://www.madisonmeadowsgolfcourse.com/event/mens-league-2/2024-07-03/
END:VEVENT
BEGIN:VEVENT
DTSTART;TZID=UTC:20240702T090000
DTEND;TZID=UTC:20240702T130000
DTSTAMP:20260420T155450
CREATED:20240607T171401Z
LAST-MODIFIED:20240718T042959Z
UID:10000087-1719910800-1719925200@www.madisonmeadowsgolfcourse.com
SUMMARY:Senior League
DESCRIPTION:
URL:https://www.madisonmeadowsgolfcourse.com/event/mens-senior-league/2024-07-02/
END:VEVENT
BEGIN:VEVENT
DTSTART;TZID=UTC:20240702T090000
DTEND;TZID=UTC:20240702T120000
DTSTAMP:20260420T155450
CREATED:20240625T162716Z
LAST-MODIFIED:20240625T162716Z
UID:10000105-1719910800-1719921600@www.madisonmeadowsgolfcourse.com
SUMMARY:Kids Golf & Tennis Camp
DESCRIPTION:We offer classes for two age groups: 5-9 and 10-14. It is $10 per day or $50 for all six sessions\, and you can choose between golf\, tennis\, or both for the same daily fee! \nCall the Pro Shop for more information and to sign up!
URL:https://www.madisonmeadowsgolfcourse.com/event/kids-golf-tennis-camp/2024-07-02/
END:VEVENT
BEGIN:VEVENT
DTSTART;TZID=UTC:20240628T173000
DTEND;TZID=UTC:20240628T173000
DTSTAMP:20260420T155450
CREATED:20240517T180039Z
LAST-MODIFIED:20240517T180039Z
UID:10000014-1719595800-1719595800@www.madisonmeadowsgolfcourse.com
SUMMARY:Couple’s Friday Fun Night Scramble
DESCRIPTION:
URL:https://www.madisonmeadowsgolfcourse.com/event/couples-friday-fun-night-scramble/2024-06-28/
END:VEVENT
BEGIN:VEVENT
DTSTART;TZID=UTC:20240627T093000
DTEND;TZID=UTC:20240627T130000
DTSTAMP:20260420T155450
CREATED:20240607T171209Z
LAST-MODIFIED:20240607T171209Z
UID:10000027-1719480600-1719493200@www.madisonmeadowsgolfcourse.com
SUMMARY:Women’s League
DESCRIPTION:
URL:https://www.madisonmeadowsgolfcourse.com/event/womens-league/2024-06-27/
END:VEVENT
BEGIN:VEVENT
DTSTART;TZID=UTC:20240626T173000
DTEND;TZID=UTC:20240626T210000
DTSTAMP:20260420T155450
CREATED:20240607T171500Z
LAST-MODIFIED:20240607T171500Z
UID:10000064-1719423000-1719435600@www.madisonmeadowsgolfcourse.com
SUMMARY:Men’s League
DESCRIPTION:
URL:https://www.madisonmeadowsgolfcourse.com/event/mens-league-2/2024-06-26/
END:VEVENT
BEGIN:VEVENT
DTSTART;TZID=UTC:20240625T090000
DTEND;TZID=UTC:20240625T130000
DTSTAMP:20260420T155450
CREATED:20240607T171401Z
LAST-MODIFIED:20240718T042959Z
UID:10000086-1719306000-1719320400@www.madisonmeadowsgolfcourse.com
SUMMARY:Senior League
DESCRIPTION:
URL:https://www.madisonmeadowsgolfcourse.com/event/mens-senior-league/2024-06-25/
END:VEVENT
BEGIN:VEVENT
DTSTART;TZID=UTC:20240621T173000
DTEND;TZID=UTC:20240621T173000
DTSTAMP:20260420T155450
CREATED:20240517T180039Z
LAST-MODIFIED:20240517T180039Z
UID:10000013-1718991000-1718991000@www.madisonmeadowsgolfcourse.com
SUMMARY:Couple’s Friday Fun Night Scramble
DESCRIPTION:
URL:https://www.madisonmeadowsgolfcourse.com/event/couples-friday-fun-night-scramble/2024-06-21/
END:VEVENT
BEGIN:VEVENT
DTSTART;TZID=UTC:20240620T093000
DTEND;TZID=UTC:20240620T130000
DTSTAMP:20260420T155450
CREATED:20240607T171209Z
LAST-MODIFIED:20240607T171209Z
UID:10000026-1718875800-1718888400@www.madisonmeadowsgolfcourse.com
SUMMARY:Women’s League
DESCRIPTION:
URL:https://www.madisonmeadowsgolfcourse.com/event/womens-league/2024-06-20/
END:VEVENT
END:VCALENDAR